Workbook

Sheet Лист1
A2: Расчёт расходов к проекту бюджета по платным образовательным услугам на 2026 год
A3: ГБОУ №553
B6: в желтое поле вводите свои значения
B7: значения в зеленом поле заполняются автоматически!! Просьба формулы не менять!!
A9: по платной образовательной услуге | E9: СВОД
C10: между ГБОУ № | E10: 553
D11: и
A13: =[1]Лобанков!A13:C13 -> с октября | D13: =[1]Лобанков!D13:G13 -> по декабрь | I13: 3 | J13: месяца
A15: показатели | B15: январь | C15: февраль | D15: март | E15: апрель | F15: май | G15: июнь | H15: сентябрь | I15: октябрь | J15: ноябрь | K15: декабрь
A16: кол-во детей | I16: =[1]Лобанков!I16+[1]Алаев!I16+[1]ШРР!I16+'[1]Алаев 2'!I16 -> 69 | J16: =[1]Лобанков!J16+[1]Алаев!J16+[1]ШРР!J16+'[1]Алаев 2'!J16 -> 69 | K16: =[1]Лобанков!K16+[1]Алаев!K16+[1]ШРР!K16+'[1]Алаев 2'!K16 -> 69
A18: кол-во групп | I18: 5 | J18: 5 | K18: 5
H19: =[1]Лобанков!H19+[1]Алаев!H19+[1]ШРР!H19 -> 0
A20: Кол-во часов в месяц на 1 группу | H20: =[1]Лобанков!H20+[1]Алаев!H20+[1]ШРР!H20 -> 0
A22: Всего часов в месяц | I22: =[1]Лобанков!I22+[1]Алаев!I22+[1]ШРР!I22+'[1]Алаев 2'!I22 -> 68 | J22: =[1]Лобанков!J22+[1]Алаев!J22+[1]ШРР!J22+'[1]Алаев 2'!J22 -> 68 | K22: =[1]Лобанков!K22+[1]Алаев!K22+[1]ШРР!K22+'[1]Алаев 2'!K22 -> 68
A23: Стоимость педчаса:
A25: ДОХОДЫ
A26: Родительская плата в месяц (в том числе на возмещение комм. услуг):
A28: Доход в месяц: | C28: =SUM([1]Лобанков!C28+[1]Алаев!C28+[1]ШРР!C28) -> 250000 | D28: руб. | E28: за период: | G28: =SUM([1]Лобанков!G28+[1]Алаев!G28+[1]ШРР!G28) -> 750000 | H28: руб.
A30: РАСХОДЫ | F30: в рублях в месяц | H30: за весь период, руб. | I30: в процентах от ФОТ | J30: в процентах от дохода | K30: в процентах от дохода
A31: 1 | B31: Фонд оплаты труда (с учётом резерва на отпуск) | F31: =SUM([1]Лобанков!F31+[1]Алаев!F31+[1]ШРР!F31+'[1]Алаев 2'!F31) -> 151241.53 | G31: =SUM([1]Лобанков!G31+[1]Алаев!G31+[1]ШРР!G31) -> 0 | H31: =SUM([1]Лобанков!H31+[1]Алаев!H31+[1]ШРР!H31+'[1]Алаев 2'!H31) -> 453724.6 | I31: =SUM([1]Лобанков!I31+[1]Алаев!I31+[1]ШРР!I31) -> 0 | J31: =F31/F50 -> 0.56433409 | K31: 0.75
A32: 2 | B32: Заработная плата (без учёта резерва на отпуск) | F32: =SUM([1]Лобанков!F32+[1]Алаев!F32+[1]ШРР!F32+'[1]Алаев 2'!F32) -> 135037.08 | G32: =SUM([1]Лобанков!G32+[1]Алаев!G32+[1]ШРР!G32) -> 0 | H32: =SUM([1]Лобанков!H32+[1]Алаев!H32+[1]ШРР!H32+'[1]Алаев 2'!H32) -> 405111.25 | J32: =F32/F50 -> 0.50386972
A33: - | B33: педагогическая з/плата (по тарификации) | F33: =SUM([1]Лобанков!F33+[1]Алаев!F33+[1]ШРР!F33+'[1]Алаев 2'!F33) -> 56598.53 | G33: =SUM([1]Лобанков!G33+[1]Алаев!G33+[1]ШРР!G33) -> 0 | H33: =SUM([1]Лобанков!H33+[1]Алаев!H33+[1]ШРР!H33+'[1]Алаев 2'!H33) -> 169795.59 | J33: =F33/F50 -> 0.21118854
A34: - | B34: прочие специалисты (по тарификации) | F34: =SUM([1]Лобанков!F34+[1]Алаев!F34+[1]ШРР!F34+'[1]Алаев 2'!F34) -> 0 | G34: =SUM([1]Лобанков!G34+[1]Алаев!G34+[1]ШРР!G34) -> 0 | H34: =SUM([1]Лобанков!H34+[1]Алаев!H34+[1]ШРР!H34+'[1]Алаев 2'!H34) -> 0
B35: Фонд надбавок и доплат, в том числе: | F35: =SUM([1]Лобанков!F35+[1]Алаев!F35+[1]ШРР!F35+'[1]Алаев 2'!F35) -> 78438.555 | G35: =SUM([1]Лобанков!G35+[1]Алаев!G35+[1]ШРР!G35) -> 0 | H35: =SUM([1]Лобанков!H35+[1]Алаев!H35+[1]ШРР!H35+'[1]Алаев 2'!H35) -> 235315.66 | J35: =F35/F50 -> 0.29268117
A36: - | B36: педагог (за индивидуальный вклад) | F36: =SUM([1]Лобанков!F36+[1]Алаев!F36+[1]ШРР!F36+'[1]Алаев 2'!F36) -> 63314.401 | G36: =SUM([1]Лобанков!G36+[1]Алаев!G36+[1]ШРР!G36) -> 0 | H36: =SUM([1]Лобанков!H36+[1]Алаев!H36+[1]ШРР!H36+'[1]Алаев 2'!H36) -> 189943.2 | J36: =F36/F50 -> 0.23624777
A37: - | B37: организатор (приказ по ОУ до 12% от ФОТ) | E37: =F37/F31 -> 0.1 | F37: =SUM([1]Лобанков!F37+[1]Алаев!F37+[1]ШРР!F37+'[1]Алаев 2'!F37) -> 15124.153 | G37: =SUM([1]Лобанков!G37+[1]Алаев!G37+[1]ШРР!G37) -> 0 | H37: =SUM([1]Лобанков!H37+[1]Алаев!H37+[1]ШРР!H37+'[1]Алаев 2'!H37) -> 45372.46 | J37: =F37/F50 -> 0.056433409
A38: - | B38: прочие специалисты (приказ по ОУ до ____% от ФОТ) | E38: =F38/$F$32 -> 0 | F38: =SUM([1]Лобанков!F38+[1]Алаев!F38+[1]ШРР!F38+'[1]Алаев 2'!F38) -> 0 | G38: =SUM([1]Лобанков!G38+[1]Алаев!G38+[1]ШРР!G38) -> 0 | H38: =SUM([1]Лобанков!H38+[1]Алаев!H38+[1]ШРР!H38+'[1]Алаев 2'!H38) -> 0 | J38: =F38/F51 -> 0
A39: - | B39: МОП (приказ по ОУ до _____% от ФОТ) | E39: =F39/$F$32 -> 0 | F39: =SUM([1]Лобанков!F39+[1]Алаев!F39+[1]ШРР!F39+'[1]Алаев 2'!F39) -> 0 | G39: =SUM([1]Лобанков!G39+[1]Алаев!G39+[1]ШРР!G39) -> 0 | H39: =SUM([1]Лобанков!H39+[1]Алаев!H39+[1]ШРР!H39+'[1]Алаев 2'!H39) -> 0 | J39: =F39/F50 -> 0
A40: - | B40: развитие сети платных услуг | E40: =F40/$F$32 -> 0 | F40: =SUM([1]Лобанков!F40+[1]Алаев!F40+[1]ШРР!F40+'[1]Алаев 2'!F40) -> 0 | G40: =SUM([1]Лобанков!G40+[1]Алаев!G40+[1]ШРР!G40) -> 0 | H40: =SUM([1]Лобанков!H40+[1]Алаев!H40+[1]ШРР!H40+'[1]Алаев 2'!H40) -> 0 | J40: =F40/F50 -> 0
A41: 3 | B41: Резерв (отпускные 12% от зарплаты) | E41: =F41/F32 -> 0.12 | F41: =SUM([1]Лобанков!F41+[1]Алаев!F41+[1]ШРР!F41+'[1]Алаев 2'!F41) -> 16204.45 | G41: =SUM([1]Лобанков!G41+[1]Алаев!G41+[1]ШРР!G41) -> 0 | H41: =SUM([1]Лобанков!H41+[1]Алаев!H41+[1]ШРР!H41+'[1]Алаев 2'!H41) -> 48613.351 | J41: =F41/F50 -> 0.060464366
A42: 4 | B42: Начисления на з/плату | E42: 0.302 | F42: =SUM([1]Лобанков!F42+[1]Алаев!F42+[1]ШРР!F42+'[1]Алаев 2'!F42) -> 45674.944 | G42: =SUM([1]Лобанков!G42+[1]Алаев!G42+[1]ШРР!G42) -> 0 | H42: =SUM([1]Лобанков!H42+[1]Алаев!H42+[1]ШРР!H42+'[1]Алаев 2'!H42) -> 137024.83 | J42: =F42/F50 -> 0.17042889
A43: 5 | B43: Фонд больничных листов | E43: 0.027 | F43: =SUM([1]Лобанков!F43+[1]Алаев!F43+[1]ШРР!F43+'[1]Алаев 2'!F43) -> 4083.5214 | G43: =SUM([1]Лобанков!G43+[1]Алаев!G43+[1]ШРР!G43) -> 0 | H43: =SUM([1]Лобанков!H43+[1]Алаев!H43+[1]ШРР!H43+'[1]Алаев 2'!H43) -> 12250.564 | J43: =F43/$F$50 -> 0.01523702
A44: 6.1 | B44: Резерв (премия руководителя) | F44: =SUM([1]Лобанков!F44+[1]Алаев!F44+[1]ШРР!F44+'[1]Алаев 2'!F44) -> 16080 | G44: =SUM([1]Лобанков!G44+[1]Алаев!G44+[1]ШРР!G44) -> 0 | H44: =SUM([1]Лобанков!H44+[1]Алаев!H44+[1]ШРР!H44+'[1]Алаев 2'!H44) -> 48240 | J44: =F44/$F$50 -> 0.06 | K44: 0.078
A45: 6.2 | B45: Резерв (начисления на выплаты по оплате премии руководителя) | F45: =SUM([1]Лобанков!F45+[1]Алаев!F45+[1]ШРР!F45+'[1]Алаев 2'!F45) -> 4824 | G45: =SUM([1]Лобанков!G45+[1]Алаев!G45+[1]ШРР!G45) -> 0 | H45: =SUM([1]Лобанков!H45+[1]Алаев!H45+[1]ШРР!H45+'[1]Алаев 2'!H45) -> 14472 | J45: =F45/$F$50 -> 0.018
A46: 7 | B46: ИТОГО: ФОТ с начислениями (п.1+п.4+п.5+п.6.1+6.2) | F46: =SUM([1]Лобанков!F46+[1]Алаев!F46+[1]ШРР!F46+'[1]Алаев 2'!F46) -> 221904 | G46: =SUM([1]Лобанков!G46+[1]Алаев!G46+[1]ШРР!G46) -> 0 | H46: =SUM([1]Лобанков!H46+[1]Алаев!H46+[1]ШРР!H46+'[1]Алаев 2'!H46) -> 665712 | J46: =F46/F50 -> 0.828
A47: 8 | B47: Обеспечение учебного процесса | F47: =SUM([1]Лобанков!F47+[1]Алаев!F47+[1]ШРР!F47+'[1]Алаев 2'!F47) -> 46096 | G47: =SUM([1]Лобанков!G47+[1]Алаев!G47+[1]ШРР!G47) -> 0 | H47: =SUM([1]Лобанков!H47+[1]Алаев!H47+[1]ШРР!H47+'[1]Алаев 2'!H47) -> 138288 | J47: =K47 -> 0.172 | K47: 0.172
B48: в том числе: | F48: =SUM([1]Лобанков!F48+[1]Алаев!F48+[1]ШРР!F48) -> 0 | G48: =SUM([1]Лобанков!G48+[1]Алаев!G48+[1]ШРР!G48) -> 0 | H48: =SUM([1]Лобанков!H48+[1]Алаев!H48+[1]ШРР!H48+'[1]Алаев 2'!H48) -> 0
B49: по КОСГУ 221, 222, 223, 225, 226, 227, 293, 310, 341, 342, 343, 344, 345, 346, 349 | F49: =SUM([1]Лобанков!F49+[1]Алаев!F49+[1]ШРР!F49) -> 0 | G49: =SUM([1]Лобанков!G49+[1]Алаев!G49+[1]ШРР!G49) -> 0 | H49: =SUM([1]Лобанков!H49+[1]Алаев!H49+[1]ШРР!H49+'[1]Алаев 2'!H49) -> 0
B50: ВСЕГО: | F50: =SUM([1]Лобанков!F50+[1]Алаев!F50+[1]ШРР!F50+'[1]Алаев 2'!F50) -> 268000 | G50: =SUM([1]Лобанков!G50+[1]Алаев!G50+[1]ШРР!G50) -> 0 | H50: =SUM([1]Лобанков!H50+[1]Алаев!H50+[1]ШРР!H50+'[1]Алаев 2'!H50) -> 804000 | J50: =K31+K47+K44 -> 1
B51: Проверка | F51: =SUM([1]Лобанков!F51+[1]Алаев!F51+[1]ШРР!F51+'[1]Алаев 2'!F51) -> 268000 | G51: =SUM([1]Лобанков!G51+[1]Алаев!G51+[1]ШРР!G51) -> 0 | H51: =SUM([1]Лобанков!H51+[1]Алаев!H51+[1]ШРР!H51+'[1]Алаев 2'!H51) -> 804000 | J51: =J31+J42+J47+J43+J44+J45 -> 1
...
